BEGIN:VCALENDAR
VERSION:2.0
PRODID:-//Catholic Charities - ECPv6.15.20//NONSGML v1.0//EN
CALSCALE:GREGORIAN
METHOD:PUBLISH
X-ORIGINAL-URL:https://www.ccfairfield.org
X-WR-CALDESC:Events for Catholic Charities
REFRESH-INTERVAL;VALUE=DURATION:PT1H
X-Robots-Tag:noindex
X-PUBLISHED-TTL:PT1H
BEGIN:VTIMEZONE
TZID:America/New_York
BEGIN:DAYLIGHT
TZOFFSETFROM:-0500
TZOFFSETTO:-0400
TZNAME:EDT
DTSTART:20230312T070000
END:DAYLIGHT
BEGIN:STANDARD
TZOFFSETFROM:-0400
TZOFFSETTO:-0500
TZNAME:EST
DTSTART:20231105T060000
END:STANDARD
BEGIN:DAYLIGHT
TZOFFSETFROM:-0500
TZOFFSETTO:-0400
TZNAME:EDT
DTSTART:20240310T070000
END:DAYLIGHT
BEGIN:STANDARD
TZOFFSETFROM:-0400
TZOFFSETTO:-0500
TZNAME:EST
DTSTART:20241103T060000
END:STANDARD
BEGIN:DAYLIGHT
TZOFFSETFROM:-0500
TZOFFSETTO:-0400
TZNAME:EDT
DTSTART:20250309T070000
END:DAYLIGHT
BEGIN:STANDARD
TZOFFSETFROM:-0400
TZOFFSETTO:-0500
TZNAME:EST
DTSTART:20251102T060000
END:STANDARD
END:VTIMEZONE
BEGIN:VEVENT
DTSTART;TZID=America/New_York:20240515T070000
DTEND;TZID=America/New_York:20240515T090000
DTSTAMP:20260419T081842
CREATED:20240306T185119Z
LAST-MODIFIED:20240515T004007Z
UID:5271-1715756400-1715763600@www.ccfairfield.org
SUMMARY:The 30th Annual Thomas Merton Family Center Celebrity Breakfast
DESCRIPTION:Tickets and Sponsorships
URL:https://www.ccfairfield.org/event/the-30th-annual-thomas-merton-family-center-celebrity-breakfast/
LOCATION:Guest House at Sacred Heart University\, 3135 Easton Turnpike\, Fairfield\, CT\, 06825
CATEGORIES:events,General Catholic Charities Events
ATTACH;FMTTYPE=image/png:https://www.ccfairfield.org/wp-content/uploads/2024/03/TMFC-Celeb-Breakfast-2024-Save-the-Date.png
END:VEVENT
END:VCALENDAR