BEGIN:VCALENDAR
VERSION:2.0
PRODID:-//Catholic Charities - ECPv6.15.20//NONSGML v1.0//EN
CALSCALE:GREGORIAN
METHOD:PUBLISH
X-ORIGINAL-URL:https://www.ccfairfield.org
X-WR-CALDESC:Events for Catholic Charities
REFRESH-INTERVAL;VALUE=DURATION:PT1H
X-Robots-Tag:noindex
X-PUBLISHED-TTL:PT1H
BEGIN:VTIMEZONE
TZID:America/New_York
BEGIN:DAYLIGHT
TZOFFSETFROM:-0500
TZOFFSETTO:-0400
TZNAME:EDT
DTSTART:20250309T070000
END:DAYLIGHT
BEGIN:STANDARD
TZOFFSETFROM:-0400
TZOFFSETTO:-0500
TZNAME:EST
DTSTART:20251102T060000
END:STANDARD
BEGIN:DAYLIGHT
TZOFFSETFROM:-0500
TZOFFSETTO:-0400
TZNAME:EDT
DTSTART:20260308T070000
END:DAYLIGHT
BEGIN:STANDARD
TZOFFSETFROM:-0400
TZOFFSETTO:-0500
TZNAME:EST
DTSTART:20261101T060000
END:STANDARD
BEGIN:DAYLIGHT
TZOFFSETFROM:-0500
TZOFFSETTO:-0400
TZNAME:EDT
DTSTART:20270314T070000
END:DAYLIGHT
BEGIN:STANDARD
TZOFFSETFROM:-0400
TZOFFSETTO:-0500
TZNAME:EST
DTSTART:20271107T060000
END:STANDARD
END:VTIMEZONE
BEGIN:VEVENT
DTSTART;TZID=America/New_York:20260218T080000
DTEND;TZID=America/New_York:20260406T170000
DTSTAMP:20260425T101216
CREATED:20260211T175207Z
LAST-MODIFIED:20260211T210733Z
UID:6759-1771401600-1775494800@www.ccfairfield.org
SUMMARY:Loaves and Fishes
DESCRIPTION:Loaves & Fishes 2026\n\n\n\n\n\n\n\n  \n    \n    Make Your Lenten Gift\n        \n        \n        \n    \n\n    \n        Other Ways to Give\n\n        \n            Please make checks payable to "Catholic Charities of Fairfield County\,"\n            add note "Loaves & Fishes" to the bottom of the check\, and send to 100 Beard Sawmill Road\, Suite 650\, Shelton\, CT 06484  						ATTN: Erin Boswell   \n\n    \n        Transform Lives in 2026 with Your Lenten Gift\n\n        \n            Hunger and food insecurity are rising at alarming rates across Fairfield County\,\n            leaving more families\, children\, and seniors struggling to access basic nutrition.\n          \n\n        \n            Catholic Charities’ food service programs provide critically needed assistance\n            through soup kitchens\, food pantries\, and home-delivered meals for the elderly\,\n            sharing more than 2.1 million meals each year.\n          \n    \n\n    \n        Programs You Support\n\n        \n            Morning Glory Breakfast Program – Danbury\n            New Covenant Center – Stamford\n            Room to Grow Preschool Food Pantry – Norwalk\n            Senior Nutrition Program – Norwalk and Stamford\n            The Thomas Merton Family Center – Bridgeport\n        \n    \n      \n              \n            \n            \n                www.ccfairfield.org/loaves\n            \n          \n    \n\n\n  \n  \n  \n\n\n    © 2026 Catholic Charities of Fairfield County
URL:https://www.ccfairfield.org/event/loaves-and-fishes/
LOCATION:CT
CATEGORIES:events,General Catholic Charities Events
ATTACH;FMTTYPE=image/png:https://www.ccfairfield.org/wp-content/uploads/2026/02/website-2026-loaves-and-fishes.png
END:VEVENT
BEGIN:VEVENT
DTSTART;TZID=America/New_York:20260401T103000
DTEND;TZID=America/New_York:20260402T180000
DTSTAMP:20260425T101216
CREATED:20260310T205424Z
LAST-MODIFIED:20260310T205641Z
UID:6807-1775039400-1775152800@www.ccfairfield.org
SUMMARY:People of Hope Mobile Museum: Catholic Charities USA
DESCRIPTION:Catholic Charities of Fairfield County invites you to experience the People of Hope Museum\, a nationwide traveling exhibit that celebrates the power of Christian service and community resilience. Housed in a retrofitted tractor-trailer\, this immersive museum shares real stories of neighbors helping neighbors—moments of courage\, compassion\, and hope from Catholic Charities agencies across the country. \n Location:\nFairfield University\, behind Mahoney Arena \n Dates & Times:\nWednesday\, April 1 10:30 AM – 5:00 PM\nThursday\, April 2 2:00 PM – 6:00 PM\n(Last entry is 30 minutes before closing) \n What to Expect: \n\nFirst-person video stories from frontline staff and volunteers\nInteractive poverty simulation and data visualizations\nAudio excerpts from authors like Oprah Winfrey and Arthur Brooks\nOn-site recording studio to share your own story of hope\nFree admission for all guests\n\nOptional Donation Opportunity:\nSupport the Room to Grow Preschool Pantry by bringing one of the most-needed items: \n\nLaundry detergent\nKids snacks\nPasta\n\nThis exhibit is part of a two-and-a-half-year national tour made possible by a $5 million grant from Lilly Endowment Inc. Join us to witness how faith in action transforms lives—and discover how you can make a meaningful impact in your own community.
URL:https://www.ccfairfield.org/event/people-of-hope-mobile-museum/
LOCATION:Fairfield University\, 1073 N Benson Rd\, Fairfield\, CT\, 06824
CATEGORIES:events,General Catholic Charities Events
ATTACH;FMTTYPE=image/png:https://www.ccfairfield.org/wp-content/uploads/2026/03/People-of-Hope-General-Invitation-Side-1.png
END:VEVENT
END:VCALENDAR